BEGIN:VCALENDAR
VERSION:2.0
PRODID:-//Shepherd Center - ECPv6.15.16//NONSGML v1.0//EN
CALSCALE:GREGORIAN
METHOD:PUBLISH
X-WR-CALNAME:Shepherd Center
X-ORIGINAL-URL:https://shepherd.dev.dvcl.cc
X-WR-CALDESC:Events for Shepherd Center
REFRESH-INTERVAL;VALUE=DURATION:PT1H
X-Robots-Tag:noindex
X-PUBLISHED-TTL:PT1H
BEGIN:VTIMEZONE
TZID:America/New_York
BEGIN:DAYLIGHT
TZOFFSETFROM:-0500
TZOFFSETTO:-0400
TZNAME:EDT
DTSTART:20240310T070000
END:DAYLIGHT
BEGIN:STANDARD
TZOFFSETFROM:-0400
TZOFFSETTO:-0500
TZNAME:EST
DTSTART:20241103T060000
END:STANDARD
BEGIN:DAYLIGHT
TZOFFSETFROM:-0500
TZOFFSETTO:-0400
TZNAME:EDT
DTSTART:20250309T070000
END:DAYLIGHT
BEGIN:STANDARD
TZOFFSETFROM:-0400
TZOFFSETTO:-0500
TZNAME:EST
DTSTART:20251102T060000
END:STANDARD
BEGIN:DAYLIGHT
TZOFFSETFROM:-0500
TZOFFSETTO:-0400
TZNAME:EDT
DTSTART:20260308T070000
END:DAYLIGHT
BEGIN:STANDARD
TZOFFSETFROM:-0400
TZOFFSETTO:-0500
TZNAME:EST
DTSTART:20261101T060000
END:STANDARD
BEGIN:DAYLIGHT
TZOFFSETFROM:-0500
TZOFFSETTO:-0400
TZNAME:EDT
DTSTART:20270314T070000
END:DAYLIGHT
BEGIN:STANDARD
TZOFFSETFROM:-0400
TZOFFSETTO:-0500
TZNAME:EST
DTSTART:20271107T060000
END:STANDARD
END:VTIMEZONE
BEGIN:VEVENT
DTSTART;TZID=America/New_York:20260210T160000
DTEND;TZID=America/New_York:20260210T180000
DTSTAMP:20260420T074912
CREATED:20251031T162532Z
LAST-MODIFIED:20251031T162538Z
UID:10001972-1770739200-1770746400@shepherd.dev.dvcl.cc
SUMMARY:Patient Haircuts
DESCRIPTION:Shepherd Center offers complimentary haircuts for patients\, provided by volunteer hairstylists. Enjoy this opportunity to relax and feel refreshed during your recovery journey.This service is reserved for current inpatients only. Check with your care team for additional information.
URL:https://shepherd.dev.dvcl.cc/event/patient-haircuts/2026-02-10/
LOCATION:Shepherd Center\, 2020 Peachtree Road NW\, Atlanta\, GA\, 30309\, United States
CATEGORIES:Patient & Family Support
ATTACH;FMTTYPE=image/png:https://shepherd.dev.dvcl.cc/wp-content/uploads/2024/08/patient-haircut.png
END:VEVENT
BEGIN:VEVENT
DTSTART;TZID=America/New_York:20260414T160000
DTEND;TZID=America/New_York:20260414T180000
DTSTAMP:20260420T074913
CREATED:20251031T162532Z
LAST-MODIFIED:20251031T162538Z
UID:10001974-1776182400-1776189600@shepherd.dev.dvcl.cc
SUMMARY:Patient Haircuts
DESCRIPTION:Shepherd Center offers complimentary haircuts for patients\, provided by volunteer hairstylists. Enjoy this opportunity to relax and feel refreshed during your recovery journey.This service is reserved for current inpatients only. Check with your care team for additional information.
URL:https://shepherd.dev.dvcl.cc/event/patient-haircuts/2026-04-14/
LOCATION:Shepherd Center\, 2020 Peachtree Road NW\, Atlanta\, GA\, 30309\, United States
CATEGORIES:Patient & Family Support
ATTACH;FMTTYPE=image/png:https://shepherd.dev.dvcl.cc/wp-content/uploads/2024/08/patient-haircut.png
END:VEVENT
BEGIN:VEVENT
DTSTART;TZID=America/New_York:20251111T160000
DTEND;TZID=America/New_York:20251111T180000
DTSTAMP:20260420T074913
CREATED:20251031T162532Z
LAST-MODIFIED:20251031T162538Z
UID:10001378-1762876800-1762884000@shepherd.dev.dvcl.cc
SUMMARY:Patient Haircuts
DESCRIPTION:Shepherd Center offers complimentary haircuts for patients\, provided by volunteer hairstylists. Enjoy this opportunity to relax and feel refreshed during your recovery journey.This service is reserved for current inpatients only. Check with your care team for additional information.
URL:https://shepherd.dev.dvcl.cc/event/patient-haircuts/2025-11-11/
LOCATION:Shepherd Center\, 2020 Peachtree Road NW\, Atlanta\, GA\, 30309\, United States
CATEGORIES:Patient & Family Support
ATTACH;FMTTYPE=image/png:https://shepherd.dev.dvcl.cc/wp-content/uploads/2024/08/patient-haircut.png
END:VEVENT
BEGIN:VEVENT
DTSTART;TZID=America/New_York:20251209T160000
DTEND;TZID=America/New_York:20251209T180000
DTSTAMP:20260420T074913
CREATED:20251031T162532Z
LAST-MODIFIED:20251031T162538Z
UID:10001970-1765296000-1765303200@shepherd.dev.dvcl.cc
SUMMARY:Patient Haircuts
DESCRIPTION:Shepherd Center offers complimentary haircuts for patients\, provided by volunteer hairstylists. Enjoy this opportunity to relax and feel refreshed during your recovery journey.This service is reserved for current inpatients only. Check with your care team for additional information.
URL:https://shepherd.dev.dvcl.cc/event/patient-haircuts/2025-12-09/
LOCATION:Shepherd Center\, 2020 Peachtree Road NW\, Atlanta\, GA\, 30309\, United States
CATEGORIES:Patient & Family Support
ATTACH;FMTTYPE=image/png:https://shepherd.dev.dvcl.cc/wp-content/uploads/2024/08/patient-haircut.png
END:VEVENT
BEGIN:VEVENT
DTSTART;TZID=America/New_York:20251118T130000
DTEND;TZID=America/New_York:20251118T150000
DTSTAMP:20260420T074913
CREATED:20251031T162429Z
LAST-MODIFIED:20251031T162435Z
UID:10001968-1763470800-1763478000@shepherd.dev.dvcl.cc
SUMMARY:Family Chair Massages
DESCRIPTION:Take a moment to relax and recharge with a soothing chair massage. Designed for families and caregivers of current inpatients\, these short\, stress-relieving massages help ease tension\, promote relaxation\, and provide a little extra comfort during your time at Shepherd Center. Massages take place in the Family Lounge on the 1st floor.
URL:https://shepherd.dev.dvcl.cc/event/family-chair-massages-10/
LOCATION:Shepherd Center\, 2020 Peachtree Road NW\, Atlanta\, GA\, 30309\, United States
CATEGORIES:Patient & Family Support
ATTACH;FMTTYPE=image/jpeg:https://shepherd.dev.dvcl.cc/wp-content/uploads/familymassage25-scaled.jpg
END:VEVENT
BEGIN:VEVENT
DTSTART;TZID=America/New_York:20251121T100000
DTEND;TZID=America/New_York:20251121T104500
DTSTAMP:20260420T074913
CREATED:20251031T162413Z
LAST-MODIFIED:20251031T162419Z
UID:10001969-1763719200-1763721900@shepherd.dev.dvcl.cc
SUMMARY:Yoga for Caregivers
DESCRIPTION:No experience necessary! Give yourself this opportunity to relax and reconnect with yourself. Mats and chairs provided. All families and caregivers of current inpatients are welcome. Sponsored by Yonder Yoga.
URL:https://shepherd.dev.dvcl.cc/event/yoga-for-caregivers-5/
LOCATION:Shepherd Center\, 2020 Peachtree Road NW\, Atlanta\, GA\, 30309\, United States
CATEGORIES:Patient & Family Support
ATTACH;FMTTYPE=image/jpeg:https://shepherd.dev.dvcl.cc/wp-content/uploads/caregiver-yoga.jpg
END:VEVENT
BEGIN:VEVENT
DTSTART;TZID=America/New_York:20251109T160000
DTEND;TZID=America/New_York:20251109T190000
DTSTAMP:20260420T074913
CREATED:20251031T162104Z
LAST-MODIFIED:20251031T162108Z
UID:10001899-1762704000-1762714800@shepherd.dev.dvcl.cc
SUMMARY:Movie Matinee Sponsored by Buckhead Rotary
DESCRIPTION:Current inpatients and their families are invited to join us for a relaxing and fun-filled afternoon at the 7th Floor Auditorium\, where we’ll be screening a family-friendly movie on the big screen!
URL:https://shepherd.dev.dvcl.cc/event/movie-matinee-sponsored-by-buckhead-rotary/
LOCATION:Shepherd Center\, 2020 Peachtree Road NW\, Atlanta\, GA\, 30309\, United States
CATEGORIES:Patient & Family Support
END:VEVENT
BEGIN:VEVENT
DTSTART;TZID=America/New_York:20251108T150000
DTEND;TZID=America/New_York:20251108T163000
DTSTAMP:20260420T074913
CREATED:20251031T161901Z
LAST-MODIFIED:20251031T161907Z
UID:10001898-1762614000-1762619400@shepherd.dev.dvcl.cc
SUMMARY:November Game Party Sponsored by National Charity League Sandy Springs Chapter
DESCRIPTION:Current inpatients and their families are invited to a game party hosted by the National Charity League Sandy Springs Chapter! The party will be held in the 7th-floor auditorium and will feature fun games\, great company\, and light refreshments.
URL:https://shepherd.dev.dvcl.cc/event/november-game-party-sponsored-by-national-charity-league-sandy-springs-chapter/
LOCATION:Shepherd Center\, 2020 Peachtree Road NW\, Atlanta\, GA\, 30309\, United States
CATEGORIES:Patient & Family Support
ATTACH;FMTTYPE=image/jpeg:https://shepherd.dev.dvcl.cc/wp-content/uploads/2024/11/sci-day-program-psychology-sci-rehab-0176.jpg
END:VEVENT
BEGIN:VEVENT
DTSTART;TZID=America/New_York:20251104T130000
DTEND;TZID=America/New_York:20251104T150000
DTSTAMP:20260420T074913
CREATED:20251031T161642Z
LAST-MODIFIED:20251031T161646Z
UID:10001897-1762261200-1762268400@shepherd.dev.dvcl.cc
SUMMARY:Family Chair Massages
DESCRIPTION:Take a moment to relax and recharge with a soothing chair massage. Designed for families and caregivers of current inpatients\, these short\, stress-relieving massages help ease tension\, promote relaxation\, and provide a little extra comfort during your time at Shepherd Center. Massages take place in the Family Lounge on the 1st floor.
URL:https://shepherd.dev.dvcl.cc/event/family-chair-massages-9/
LOCATION:Shepherd Center\, 2020 Peachtree Road NW\, Atlanta\, GA\, 30309\, United States
CATEGORIES:Patient & Family Support
ATTACH;FMTTYPE=image/jpeg:https://shepherd.dev.dvcl.cc/wp-content/uploads/familymassage25-scaled.jpg
END:VEVENT
BEGIN:VEVENT
DTSTART;TZID=America/New_York:20251103T180000
DTEND;TZID=America/New_York:20251103T190000
DTSTAMP:20260420T074913
CREATED:20251031T161508Z
LAST-MODIFIED:20251031T161513Z
UID:10001896-1762192800-1762196400@shepherd.dev.dvcl.cc
SUMMARY:Magic Show
DESCRIPTION:Join us for a free magic show for inpatients and their families! Get ready for laughter and mind-blowing tricks that will leave you amazed. Don’t miss this chance to enjoy some fun and magic together!
URL:https://shepherd.dev.dvcl.cc/event/magic-show-5/
LOCATION:Shepherd Center\, 2020 Peachtree Road NW\, Atlanta\, GA\, 30309\, United States
CATEGORIES:Patient & Family Support
END:VEVENT
BEGIN:VEVENT
DTSTART;TZID=America/New_York:20251025T110000
DTEND;TZID=America/New_York:20251025T140000
DTSTAMP:20260420T074913
CREATED:20251009T214427Z
LAST-MODIFIED:20251009T214431Z
UID:10001895-1761390000-1761400800@shepherd.dev.dvcl.cc
SUMMARY:Peer Support Autumn Feast
DESCRIPTION:All patients and families are invited to Peer Support’s Autumn Feast in the Livingston Gym.
URL:https://shepherd.dev.dvcl.cc/event/peer-support-autumn-feast/
LOCATION:Shepherd Center\, 2020 Peachtree Road NW\, Atlanta\, GA\, 30309\, United States
CATEGORIES:Patient & Family Support
END:VEVENT
BEGIN:VEVENT
DTSTART;TZID=America/New_York:20251026T140000
DTEND;TZID=America/New_York:20251026T170000
DTSTAMP:20260420T074913
CREATED:20251009T213937Z
LAST-MODIFIED:20251009T213941Z
UID:10001894-1761487200-1761498000@shepherd.dev.dvcl.cc
SUMMARY:Movie Matinee
DESCRIPTION:Current inpatients and their families are invited to join us for a relaxing and fun-filled afternoon at the Livingston Gym\, where we’ll be screening a family-friendly movie on the big screen!
URL:https://shepherd.dev.dvcl.cc/event/movie-matinee/
LOCATION:Shepherd Center\, 2020 Peachtree Road NW\, Atlanta\, GA\, 30309\, United States
CATEGORIES:Patient & Family Support
END:VEVENT
BEGIN:VEVENT
DTSTART;TZID=America/New_York:20251021T130000
DTEND;TZID=America/New_York:20251021T150000
DTSTAMP:20260420T074913
CREATED:20251009T213500Z
LAST-MODIFIED:20251009T213504Z
UID:10001893-1761051600-1761058800@shepherd.dev.dvcl.cc
SUMMARY:Family Chair Massages
DESCRIPTION:Take a moment to relax and recharge with a soothing chair massage. Designed for families and caregivers of current inpatients\, these short\, stress-relieving massages help ease tension\, promote relaxation\, and provide a little extra comfort during your time at Shepherd Center.
URL:https://shepherd.dev.dvcl.cc/event/family-chair-massages-8/
LOCATION:Shepherd Center\, 2020 Peachtree Road NW\, Atlanta\, GA\, 30309\, United States
CATEGORIES:Patient & Family Support
ATTACH;FMTTYPE=image/jpeg:https://shepherd.dev.dvcl.cc/wp-content/uploads/familymassage25-scaled.jpg
END:VEVENT
BEGIN:VEVENT
DTSTART;TZID=America/New_York:20251016T100000
DTEND;TZID=America/New_York:20251016T113000
DTSTAMP:20260420T074913
CREATED:20251009T213440Z
LAST-MODIFIED:20251009T213444Z
UID:10001892-1760608800-1760614200@shepherd.dev.dvcl.cc
SUMMARY:Family Brunch
DESCRIPTION:Join us for a complimentary brunch for inpatient family members! Enjoy a delicious meal\, connect with other families\, and relax in the 6th Floor Family Lounge.
URL:https://shepherd.dev.dvcl.cc/event/family-brunch-7/
LOCATION:Shepherd Center\, 2020 Peachtree Road NW\, Atlanta\, GA\, 30309\, United States
CATEGORIES:Patient & Family Support
END:VEVENT
BEGIN:VEVENT
DTSTART;TZID=America/New_York:20251012T100000
DTEND;TZID=America/New_York:20251012T113000
DTSTAMP:20260420T074913
CREATED:20251009T213422Z
LAST-MODIFIED:20251009T213427Z
UID:10001891-1760263200-1760268600@shepherd.dev.dvcl.cc
SUMMARY:Bingo Brunch
DESCRIPTION:Current inpatients and their families are invited to join us for a fun-filled bingo brunch! Enjoy refreshments\, exciting prizes\, and a chance to relax and connect with others.
URL:https://shepherd.dev.dvcl.cc/event/bingo-brunch/
LOCATION:Shepherd Center\, 2020 Peachtree Road NW\, Atlanta\, GA\, 30309\, United States
CATEGORIES:Patient & Family Support
ATTACH;FMTTYPE=image/heic:https://shepherd.dev.dvcl.cc/wp-content/uploads/woman-smiles-at-bingo-card-scaled.jpg
END:VEVENT
BEGIN:VEVENT
DTSTART;TZID=America/New_York:20251010T100000
DTEND;TZID=America/New_York:20251010T104500
DTSTAMP:20260420T074913
CREATED:20251009T213202Z
LAST-MODIFIED:20251009T213207Z
UID:10001890-1760090400-1760093100@shepherd.dev.dvcl.cc
SUMMARY:Yoga for Caregivers
DESCRIPTION:No experience necessary! Give yourself this opportunity to relax and reconnect with yourself. Mats and chairs provided. All families and caregivers of current inpatients are welcome. Sponsored by Yonder Yoga.
URL:https://shepherd.dev.dvcl.cc/event/yoga-for-caregivers-4/
LOCATION:Shepherd Center\, 2020 Peachtree Road NW\, Atlanta\, GA\, 30309\, United States
CATEGORIES:Patient & Family Support
ATTACH;FMTTYPE=image/jpeg:https://shepherd.dev.dvcl.cc/wp-content/uploads/caregiver-yoga.jpg
END:VEVENT
BEGIN:VEVENT
DTSTART;TZID=America/New_York:20250920T090000
DTEND;TZID=America/New_York:20250920T103000
DTSTAMP:20260420T074913
CREATED:20250904T140313Z
LAST-MODIFIED:20250904T140538Z
UID:10001889-1758358800-1758364200@shepherd.dev.dvcl.cc
SUMMARY:Waffle House Truck
DESCRIPTION:Join us for a Waffle House brunch for inpatient family members! Enjoy a delicious meal\, connect with other families\, and relax in the main Circle Drive.
URL:https://shepherd.dev.dvcl.cc/event/waffle-house-truck/
LOCATION:Shepherd Center\, 2020 Peachtree Road NW\, Atlanta\, GA\, 30309\, United States
CATEGORIES:Patient & Family Support
ATTACH;FMTTYPE=image/jpeg:https://shepherd.dev.dvcl.cc/wp-content/uploads/waffle-house-food-truck.jpg
END:VEVENT
BEGIN:VEVENT
DTSTART;TZID=America/New_York:20250918T100000
DTEND;TZID=America/New_York:20250918T113000
DTSTAMP:20260420T074913
CREATED:20250904T135947Z
LAST-MODIFIED:20250904T135955Z
UID:10001888-1758189600-1758195000@shepherd.dev.dvcl.cc
SUMMARY:Family Brunch
DESCRIPTION:Join us for a complimentary brunch for inpatient family members! Enjoy a delicious meal\, connect with other families\, and relax in the 6th Floor Family Lounge.
URL:https://shepherd.dev.dvcl.cc/event/family-brunch-6/
LOCATION:Shepherd Center\, 2020 Peachtree Road NW\, Atlanta\, GA\, 30309\, United States
CATEGORIES:Patient & Family Support
END:VEVENT
BEGIN:VEVENT
DTSTART;TZID=America/New_York:20250916T130000
DTEND;TZID=America/New_York:20250916T150000
DTSTAMP:20260420T074913
CREATED:20250904T135909Z
LAST-MODIFIED:20250904T135916Z
UID:10001887-1758027600-1758034800@shepherd.dev.dvcl.cc
SUMMARY:Family Chair Massages
DESCRIPTION:Take a moment to relax and recharge with a soothing chair massage. Designed for families and caregivers of current inpatients\, these short\, stress-relieving massages help ease tension\, promote relaxation\, and provide a little extra comfort during your time at Shepherd Center.
URL:https://shepherd.dev.dvcl.cc/event/family-chair-massages-7/
LOCATION:Shepherd Center\, 2020 Peachtree Road NW\, Atlanta\, GA\, 30309\, United States
CATEGORIES:Patient & Family Support
ATTACH;FMTTYPE=image/jpeg:https://shepherd.dev.dvcl.cc/wp-content/uploads/familymassage25-scaled.jpg
END:VEVENT
BEGIN:VEVENT
DTSTART;TZID=America/New_York:20250913T130000
DTEND;TZID=America/New_York:20250913T143000
DTSTAMP:20260420T074913
CREATED:20250904T135821Z
LAST-MODIFIED:20250904T135827Z
UID:10001886-1757768400-1757773800@shepherd.dev.dvcl.cc
SUMMARY:September Game Party Sponsored by National Charity League Azalea Chapter
DESCRIPTION:Current inpatients and their families are invited to a game party hosted by the National Charity League Azalea Chapter! The party will be held in the 7th-floor auditorium and will feature fun games\, great company\, and light refreshments.
URL:https://shepherd.dev.dvcl.cc/event/september-game-party-sponsored-by-national-charity-league-azalea-chapter/
LOCATION:Shepherd Center\, 2020 Peachtree Road NW\, Atlanta\, GA\, 30309\, United States
CATEGORIES:Patient & Family Support
ATTACH;FMTTYPE=image/jpeg:https://shepherd.dev.dvcl.cc/wp-content/uploads/2024/11/sci-day-program-psychology-sci-rehab-0176.jpg
END:VEVENT
BEGIN:VEVENT
DTSTART;TZID=America/New_York:20250908T180000
DTEND;TZID=America/New_York:20250908T190000
DTSTAMP:20260420T074913
CREATED:20250904T135542Z
LAST-MODIFIED:20250904T135547Z
UID:10001885-1757354400-1757358000@shepherd.dev.dvcl.cc
SUMMARY:Magic Show
DESCRIPTION:Join us for a free magic show for inpatients and their families! Get ready for laughter and mind-blowing tricks that will leave you amazed. Don’t miss this chance to enjoy some fun and magic together!
URL:https://shepherd.dev.dvcl.cc/event/magic-show-4/
LOCATION:Shepherd Center\, 2020 Peachtree Road NW\, Atlanta\, GA\, 30309\, United States
CATEGORIES:Patient & Family Support
END:VEVENT
BEGIN:VEVENT
DTSTART;TZID=America/New_York:20250905T100000
DTEND;TZID=America/New_York:20250905T104500
DTSTAMP:20260420T074913
CREATED:20250904T135456Z
LAST-MODIFIED:20250904T135503Z
UID:10001884-1757066400-1757069100@shepherd.dev.dvcl.cc
SUMMARY:Yoga for Caregivers
DESCRIPTION:No experience necessary! Give yourself this opportunity to relax and reconnect with yourself. Mats and chairs provided. All families and caregivers of current inpatients are welcome. Sponsored by Yonder Yoga.
URL:https://shepherd.dev.dvcl.cc/event/yoga-for-caregivers-3/
LOCATION:Shepherd Center\, 2020 Peachtree Road NW\, Atlanta\, GA\, 30309\, United States
CATEGORIES:Patient & Family Support
ATTACH;FMTTYPE=image/jpeg:https://shepherd.dev.dvcl.cc/wp-content/uploads/caregiver-yoga.jpg
END:VEVENT
BEGIN:VEVENT
DTSTART;TZID=America/New_York:20250819T130000
DTEND;TZID=America/New_York:20250819T150000
DTSTAMP:20260420T074913
CREATED:20250729T185302Z
LAST-MODIFIED:20250729T185306Z
UID:10001882-1755608400-1755615600@shepherd.dev.dvcl.cc
SUMMARY:Family Chair Massages
DESCRIPTION:Take a moment to relax and recharge with a soothing chair massage. Designed for families and caregivers of current inpatients\, these short\, stress-relieving massages help ease tension\, promote relaxation\, and provide a little extra comfort during your time at Shepherd Center.
URL:https://shepherd.dev.dvcl.cc/event/family-chair-massages-aug-19/
LOCATION:Shepherd Center\, 2020 Peachtree Road NW\, Atlanta\, GA\, 30309\, United States
CATEGORIES:Patient & Family Support
ATTACH;FMTTYPE=image/jpeg:https://shepherd.dev.dvcl.cc/wp-content/uploads/familymassage25-scaled.jpg
END:VEVENT
BEGIN:VEVENT
DTSTART;TZID=America/New_York:20250823T150000
DTEND;TZID=America/New_York:20250823T163000
DTSTAMP:20260420T074913
CREATED:20250729T185032Z
LAST-MODIFIED:20250729T185036Z
UID:10001881-1755961200-1755966600@shepherd.dev.dvcl.cc
SUMMARY:Ice Cream Social Sponsored by Young Men's Service League
DESCRIPTION:Join us for complimentary ice cream for inpatients and their families in 7th Floor Auditorium. Ice Cream Social is sponsored by the Young Men’s Service League North Atlanta Chapter.
URL:https://shepherd.dev.dvcl.cc/event/ice-cream-social-aug-23/
LOCATION:Shepherd Center\, 2020 Peachtree Road NW\, Atlanta\, GA\, 30309\, United States
CATEGORIES:Patient & Family Support
END:VEVENT
BEGIN:VEVENT
DTSTART;TZID=America/New_York:20250830T140000
DTEND;TZID=America/New_York:20250830T153000
DTSTAMP:20260420T074913
CREATED:20250729T184803Z
LAST-MODIFIED:20250729T185134Z
UID:10001880-1756562400-1756567800@shepherd.dev.dvcl.cc
SUMMARY:August Game Party Sponsored by Young Men's Service League
DESCRIPTION:Current inpatients and their families are invited to a game party hosted by the Young Men’s Service League! The party will be held in the 7th-floor auditorium and will feature fun games\, great company\, and light refreshments.
URL:https://shepherd.dev.dvcl.cc/event/august-game-party/
LOCATION:Shepherd Center\, 2020 Peachtree Road NW\, Atlanta\, GA\, 30309\, United States
CATEGORIES:Patient & Family Support
ATTACH;FMTTYPE=image/jpeg:https://shepherd.dev.dvcl.cc/wp-content/uploads/2024/11/sci-day-program-psychology-sci-rehab-0176.jpg
END:VEVENT
BEGIN:VEVENT
DTSTART;TZID=America/New_York:20250823T113000
DTEND;TZID=America/New_York:20250823T130000
DTSTAMP:20260420T074913
CREATED:20250729T184448Z
LAST-MODIFIED:20250729T184451Z
UID:10001871-1755948600-1755954000@shepherd.dev.dvcl.cc
SUMMARY:ABI Family Brunch
DESCRIPTION:Join us for a complimentary brunch for ABI inpatient family members! Enjoy a delicious meal\, connect with other families\, and relax in the 7th Floor Auditorium.
URL:https://shepherd.dev.dvcl.cc/event/abi-family-brunch-aug-23/
LOCATION:Shepherd Center\, 2020 Peachtree Road NW\, Atlanta\, GA\, 30309\, United States
CATEGORIES:Patient & Family Support
END:VEVENT
BEGIN:VEVENT
DTSTART;TZID=America/New_York:20250816T150000
DTEND;TZID=America/New_York:20250816T163000
DTSTAMP:20260420T074913
CREATED:20250729T184236Z
LAST-MODIFIED:20250729T185201Z
UID:10001867-1755356400-1755361800@shepherd.dev.dvcl.cc
SUMMARY:Bingo Party Sponsored by Nation Charity League
DESCRIPTION:Current inpatients and their families are invited to join us for a fun-filled bingo party hosted by the Nation Charity League Buckhead Chapter! Enjoy light refreshments\, exciting prizes\, and a chance to relax and connect with others. Bingo takes place in the 7th-floor Auditorium.
URL:https://shepherd.dev.dvcl.cc/event/bingo-party-aug-16/
LOCATION:Shepherd Center\, 2020 Peachtree Road NW\, Atlanta\, GA\, 30309\, United States
CATEGORIES:Patient & Family Support
ATTACH;FMTTYPE=image/heic:https://shepherd.dev.dvcl.cc/wp-content/uploads/woman-smiles-at-bingo-card-scaled.jpg
END:VEVENT
BEGIN:VEVENT
DTSTART;TZID=America/New_York:20250815T100000
DTEND;TZID=America/New_York:20250815T104500
DTSTAMP:20260420T074913
CREATED:20250729T183957Z
LAST-MODIFIED:20250729T184000Z
UID:10001866-1755252000-1755254700@shepherd.dev.dvcl.cc
SUMMARY:Yoga for Caregivers
DESCRIPTION:No experience necessary! Give yourself this opportunity to relax and reconnect with yourself. Mats and chairs provided. All families and caregivers of current inpatients are welcome. Sponsored by Yonder Yoga.
URL:https://shepherd.dev.dvcl.cc/event/yoga-for-caregivers-aug-15/
LOCATION:Shepherd Center\, 2020 Peachtree Road NW\, Atlanta\, GA\, 30309\, United States
CATEGORIES:Patient & Family Support
ATTACH;FMTTYPE=image/jpeg:https://shepherd.dev.dvcl.cc/wp-content/uploads/caregiver-yoga.jpg
END:VEVENT
BEGIN:VEVENT
DTSTART;TZID=America/New_York:20250814T153000
DTEND;TZID=America/New_York:20250814T170000
DTSTAMP:20260420T074913
CREATED:20250729T183837Z
LAST-MODIFIED:20250729T183841Z
UID:10001864-1755185400-1755190800@shepherd.dev.dvcl.cc
SUMMARY:Family Ice Cream Social
DESCRIPTION:Join us for complimentary ice cream for inpatient family members while connecting with other families in the 6th-floor Family Lounge.
URL:https://shepherd.dev.dvcl.cc/event/family-ice-cream-social-aug-14/
LOCATION:Shepherd Center\, 2020 Peachtree Road NW\, Atlanta\, GA\, 30309\, United States
CATEGORIES:Patient & Family Support
END:VEVENT
BEGIN:VEVENT
DTSTART;TZID=America/New_York:20250811T180000
DTEND;TZID=America/New_York:20250811T190000
DTSTAMP:20260420T074913
CREATED:20250729T183802Z
LAST-MODIFIED:20250729T183805Z
UID:10001865-1754935200-1754938800@shepherd.dev.dvcl.cc
SUMMARY:Magic Show
DESCRIPTION:Join us for a free magic show for inpatients and their families! Get ready for laughter and mind-blowing tricks that will leave you amazed. Don’t miss this chance to enjoy some fun and magic together!
URL:https://shepherd.dev.dvcl.cc/event/magic-show-aug-11/
LOCATION:Shepherd Center\, 2020 Peachtree Road NW\, Atlanta\, GA\, 30309\, United States
CATEGORIES:Patient & Family Support
END:VEVENT
END:VCALENDAR