BEGIN:VCALENDAR
VERSION:2.0
PRODID:-//Shepherd Center - ECPv6.15.16//NONSGML v1.0//EN
CALSCALE:GREGORIAN
METHOD:PUBLISH
X-ORIGINAL-URL:https://shepherd.dev.dvcl.cc
X-WR-CALDESC:Events for Shepherd Center
REFRESH-INTERVAL;VALUE=DURATION:PT1H
X-Robots-Tag:noindex
X-PUBLISHED-TTL:PT1H
BEGIN:VTIMEZONE
TZID:America/New_York
BEGIN:DAYLIGHT
TZOFFSETFROM:-0500
TZOFFSETTO:-0400
TZNAME:EDT
DTSTART:20240310T070000
END:DAYLIGHT
BEGIN:STANDARD
TZOFFSETFROM:-0400
TZOFFSETTO:-0500
TZNAME:EST
DTSTART:20241103T060000
END:STANDARD
BEGIN:DAYLIGHT
TZOFFSETFROM:-0500
TZOFFSETTO:-0400
TZNAME:EDT
DTSTART:20250309T070000
END:DAYLIGHT
BEGIN:STANDARD
TZOFFSETFROM:-0400
TZOFFSETTO:-0500
TZNAME:EST
DTSTART:20251102T060000
END:STANDARD
BEGIN:DAYLIGHT
TZOFFSETFROM:-0500
TZOFFSETTO:-0400
TZNAME:EDT
DTSTART:20260308T070000
END:DAYLIGHT
BEGIN:STANDARD
TZOFFSETFROM:-0400
TZOFFSETTO:-0500
TZNAME:EST
DTSTART:20261101T060000
END:STANDARD
BEGIN:DAYLIGHT
TZOFFSETFROM:-0500
TZOFFSETTO:-0400
TZNAME:EDT
DTSTART:20270314T070000
END:DAYLIGHT
BEGIN:STANDARD
TZOFFSETFROM:-0400
TZOFFSETTO:-0500
TZNAME:EST
DTSTART:20271107T060000
END:STANDARD
END:VTIMEZONE
BEGIN:VEVENT
DTSTART;TZID=America/New_York:20250516T100000
DTEND;TZID=America/New_York:20250516T104500
DTSTAMP:20260420T170550
CREATED:20250509T143121Z
LAST-MODIFIED:20250509T143122Z
UID:10001736-1747389600-1747392300@shepherd.dev.dvcl.cc
SUMMARY:Yoga for Caregivers
DESCRIPTION:No experience necessary! Give yourself this opportunity to relax and reconnect with yourself. Mats and chairs provided. All families and caregivers of current inpatients are welcome. Sponsored by Yonder Yoga.
URL:https://shepherd.dev.dvcl.cc/event/yoga-for-caregivers/
LOCATION:Shepherd Center\, 2020 Peachtree Road NW\, Atlanta\, GA\, 30309\, United States
CATEGORIES:Patient & Family Support
ATTACH;FMTTYPE=image/jpeg:https://shepherd.dev.dvcl.cc/wp-content/uploads/caregiver-yoga.jpg
END:VEVENT
BEGIN:VEVENT
DTSTART;TZID=America/New_York:20250529T100000
DTEND;TZID=America/New_York:20250529T113000
DTSTAMP:20260420T170551
CREATED:20250509T143036Z
LAST-MODIFIED:20250509T143037Z
UID:10001735-1748512800-1748518200@shepherd.dev.dvcl.cc
SUMMARY:Family Brunch
DESCRIPTION:Join us for a complimentary brunch for inpatient family members! Enjoy a delicious meal\, connect with other families\, and relax in the 6th Floor Family Lounge.
URL:https://shepherd.dev.dvcl.cc/event/family-brunch-5/
LOCATION:Shepherd Center\, 2020 Peachtree Road NW\, Atlanta\, GA\, 30309\, United States
CATEGORIES:Patient & Family Support
END:VEVENT
BEGIN:VEVENT
DTSTART;TZID=America/New_York:20250515T100000
DTEND;TZID=America/New_York:20250515T113000
DTSTAMP:20260420T170551
CREATED:20250509T142956Z
LAST-MODIFIED:20250509T142957Z
UID:10001734-1747303200-1747308600@shepherd.dev.dvcl.cc
SUMMARY:Family Brunch
DESCRIPTION:Join us for a complimentary brunch for inpatient family members! Enjoy a delicious meal\, connect with other families\, and relax in the 6th Floor Family Lounge.
URL:https://shepherd.dev.dvcl.cc/event/family-brunch-4/
LOCATION:Shepherd Center\, 2020 Peachtree Road NW\, Atlanta\, GA\, 30309\, United States
CATEGORIES:Patient & Family Support
END:VEVENT
BEGIN:VEVENT
DTSTART;TZID=America/New_York:20250512T180000
DTEND;TZID=America/New_York:20250512T190000
DTSTAMP:20260420T170551
CREATED:20250509T142847Z
LAST-MODIFIED:20250509T142849Z
UID:10001733-1747072800-1747076400@shepherd.dev.dvcl.cc
SUMMARY:Magic Show
DESCRIPTION:Join us for a free magic show for inpatients and their families! Get ready for laughter and mind-blowing tricks that will leave you amazed. Don’t miss this chance to enjoy some fun and magic together!
URL:https://shepherd.dev.dvcl.cc/event/magic-show-3/
LOCATION:Shepherd Center\, 2020 Peachtree Road NW\, Atlanta\, GA\, 30309\, United States
CATEGORIES:Patient & Family Support
END:VEVENT
BEGIN:VEVENT
DTSTART;TZID=America/New_York:20250520T130000
DTEND;TZID=America/New_York:20250520T150000
DTSTAMP:20260420T170551
CREATED:20250509T134608Z
LAST-MODIFIED:20250509T134610Z
UID:10001001-1747746000-1747753200@shepherd.dev.dvcl.cc
SUMMARY:Family Chair Massages
DESCRIPTION:Take a moment to relax and recharge with a soothing chair massage. Designed for families and caregivers of current inpatients\, these short\, stress-relieving massages help ease tension\, promote relaxation\, and provide a little extra comfort during your time at Shepherd Center.
URL:https://shepherd.dev.dvcl.cc/event/family-chair-massages-4/
LOCATION:Shepherd Center\, 2020 Peachtree Road NW\, Atlanta\, GA\, 30309\, United States
CATEGORIES:Patient & Family Support
ATTACH;FMTTYPE=image/jpeg:https://shepherd.dev.dvcl.cc/wp-content/uploads/familymassage25-scaled.jpg
END:VEVENT
BEGIN:VEVENT
DTSTART;TZID=America/New_York:20250429T130000
DTEND;TZID=America/New_York:20250429T150000
DTSTAMP:20260420T170551
CREATED:20250414T202703Z
LAST-MODIFIED:20250414T202705Z
UID:10000999-1745931600-1745938800@shepherd.dev.dvcl.cc
SUMMARY:Family Chair Massages
DESCRIPTION:Take a moment to relax and recharge with a soothing chair massage. Designed for families and caregivers of current inpatients\, these short\, stress-relieving massages help ease tension\, promote relaxation\, and provide a little extra comfort during your time at Shepherd Center.
URL:https://shepherd.dev.dvcl.cc/event/family-chair-massages-april-2025/
LOCATION:Shepherd Center\, 2020 Peachtree Road NW\, Atlanta\, GA\, 30309\, United States
CATEGORIES:Patient & Family Support
ATTACH;FMTTYPE=image/jpeg:https://shepherd.dev.dvcl.cc/wp-content/uploads/familymassage25-scaled.jpg
END:VEVENT
BEGIN:VEVENT
DTSTART;TZID=America/New_York:20250417T153000
DTEND;TZID=America/New_York:20250417T170000
DTSTAMP:20260420T170551
CREATED:20250411T132834Z
LAST-MODIFIED:20250411T132836Z
UID:10001709-1744903800-1744909200@shepherd.dev.dvcl.cc
SUMMARY:Family Ice Cream Social
DESCRIPTION:Join us for complimentary ice cream for inpatient family members while connecting with other families in the 6th-floor Family Lounge.
URL:https://shepherd.dev.dvcl.cc/event/family-ice-cream-social/
LOCATION:Shepherd Center\, 2020 Peachtree Road NW\, Atlanta\, GA\, 30309\, United States
CATEGORIES:Patient & Family Support
END:VEVENT
BEGIN:VEVENT
DTSTART;TZID=America/New_York:20250426T113000
DTEND;TZID=America/New_York:20250426T130000
DTSTAMP:20260420T170551
CREATED:20250411T132644Z
LAST-MODIFIED:20250411T132645Z
UID:10001708-1745667000-1745672400@shepherd.dev.dvcl.cc
SUMMARY:ABI Family Brunch
DESCRIPTION:Join us for a complimentary brunch for ABI inpatient family members! Enjoy a delicious meal\, connect with other families\, and relax in the 7th Floor Auditorium.
URL:https://shepherd.dev.dvcl.cc/event/abi-family-brunch/
LOCATION:Shepherd Center\, 2020 Peachtree Road NW\, Atlanta\, GA\, 30309\, United States
CATEGORIES:Patient & Family Support
END:VEVENT
BEGIN:VEVENT
DTSTART;TZID=America/New_York:20250424T100000
DTEND;TZID=America/New_York:20250424T113000
DTSTAMP:20260420T170551
CREATED:20250411T132503Z
LAST-MODIFIED:20250415T143831Z
UID:10001707-1745488800-1745494200@shepherd.dev.dvcl.cc
SUMMARY:April Family Brunch
DESCRIPTION:Join us for a complimentary brunch for inpatient family members! Enjoy a delicious meal\, connect with other families\, and relax in the 6th Floor Family Lounge.
URL:https://shepherd.dev.dvcl.cc/event/family-brunch-3/
LOCATION:Shepherd Center\, 2020 Peachtree Road NW\, Atlanta\, GA\, 30309\, United States
CATEGORIES:Patient & Family Support
END:VEVENT
BEGIN:VEVENT
DTSTART;TZID=America/New_York:20250414T180000
DTEND;TZID=America/New_York:20250414T190000
DTSTAMP:20260420T170551
CREATED:20250411T132341Z
LAST-MODIFIED:20250411T132343Z
UID:10001706-1744653600-1744657200@shepherd.dev.dvcl.cc
SUMMARY:Magic Show
DESCRIPTION:Join us for a free magic show for inpatients and their families! Get ready for laughter and mind-blowing tricks that will leave you amazed. Don’t miss this chance to enjoy some fun and magic together!
URL:https://shepherd.dev.dvcl.cc/event/magic-show-2/
LOCATION:Shepherd Center\, 2020 Peachtree Road NW\, Atlanta\, GA\, 30309\, United States
CATEGORIES:Patient & Family Support
END:VEVENT
BEGIN:VEVENT
DTSTART;TZID=America/New_York:20250411T100000
DTEND;TZID=America/New_York:20250411T104500
DTSTAMP:20260420T170551
CREATED:20250411T131912Z
LAST-MODIFIED:20250411T131914Z
UID:10001705-1744365600-1744368300@shepherd.dev.dvcl.cc
SUMMARY:Yoga for Caregivers
DESCRIPTION:No experience necessary! Give yourself this opportunity to relax and reconnect with yourself. Mats and chairs provided. All families and caregivers of current inpatients are welcome. Sponsored by Yonder Yoga.
URL:https://shepherd.dev.dvcl.cc/event/yoga-for-caregivers-2/
LOCATION:Shepherd Center\, 2020 Peachtree Road NW\, Atlanta\, GA\, 30309\, United States
CATEGORIES:Patient & Family Support
ATTACH;FMTTYPE=image/jpeg:https://shepherd.dev.dvcl.cc/wp-content/uploads/caregiver-yoga.jpg
END:VEVENT
BEGIN:VEVENT
DTSTART;TZID=America/New_York:20250410T100000
DTEND;TZID=America/New_York:20250410T113000
DTSTAMP:20260420T170551
CREATED:20250408T172941Z
LAST-MODIFIED:20250408T172942Z
UID:10001704-1744279200-1744284600@shepherd.dev.dvcl.cc
SUMMARY:Family Brunch
DESCRIPTION:Join us for a complimentary brunch for inpatient family members! Enjoy a delicious meal\, connect with other families\, and relax in the 6th Floor Family Lounge.
URL:https://shepherd.dev.dvcl.cc/event/family-brunch-2/
LOCATION:Shepherd Center\, 2020 Peachtree Road NW\, Atlanta\, GA\, 30309\, United States
CATEGORIES:Patient & Family Support
END:VEVENT
BEGIN:VEVENT
DTSTART;TZID=America/New_York:20251009T000000
DTEND;TZID=America/New_York:20251009T235959
DTSTAMP:20260420T170551
CREATED:20250331T165119Z
LAST-MODIFIED:20250829T002106Z
UID:10000290-1759968000-1760054399@shepherd.dev.dvcl.cc
SUMMARY:Fall Adaptive Horticulture Clinic
DESCRIPTION:Join Shepherd Center for a clinic focused on basic horticulture and nature crafts. Program activity will be fairy gardens/terrariums.The $20 fee includes a t-shirt\, instruction\, and equipment.Registration is required for all events and opens at least six weeks prior to the start of the class or course. Most courses require a small fee; however\, financial assistance is available. Please contact Katie Harmon at katie.harmon@shepherd.org for more information regarding requirements for financial assistance. \n\n\n\n	\n																			\n												\n							Register on CampDoc
URL:https://shepherd.dev.dvcl.cc/event/horticulture-clinic-october-2025/2025-10-09/
LOCATION:Shepherd Center\, 2020 Peachtree Road NW\, Atlanta\, GA\, 30309\, United States
CATEGORIES:Health & Wellness Clinics
ATTACH;FMTTYPE=image/jpeg:https://shepherd.dev.dvcl.cc/wp-content/uploads/horticulture-clinic.jpg
END:VEVENT
BEGIN:VEVENT
DTSTART;TZID=America/New_York:20250805T170000
DTEND;TZID=America/New_York:20250805T190000
DTSTAMP:20260420T170551
CREATED:20250309T214005Z
LAST-MODIFIED:20250729T183417Z
UID:10001451-1754413200-1754420400@shepherd.dev.dvcl.cc
SUMMARY:Family Dinner
DESCRIPTION:Share a warm\, home-cooked meal with your loved ones at Family Dinner. This event brings patients and families together for a comforting and communal dining experience that feels like home.Family dinners are offered weekly on Tuesdays\, beginning at 5 p.m.This event is for current inpatients and their families/caregivers only.
URL:https://shepherd.dev.dvcl.cc/event/family-dinner-2/2025-08-05/
LOCATION:Shepherd Center\, 2020 Peachtree Road NW\, Atlanta\, GA\, 30309\, United States
CATEGORIES:Patient & Family Support
ATTACH;FMTTYPE=image/jpeg:https://shepherd.dev.dvcl.cc/wp-content/uploads/2025/01/patientsmileswithplateoffoodinhand-dvphotovideo2023-1205-170811-0100-scaled.jpg
END:VEVENT
BEGIN:VEVENT
DTSTART;TZID=America/New_York:20260331T170000
DTEND;TZID=America/New_York:20260331T190000
DTSTAMP:20260420T170551
CREATED:20250309T214005Z
LAST-MODIFIED:20250729T183417Z
UID:10001485-1774976400-1774983600@shepherd.dev.dvcl.cc
SUMMARY:Family Dinner
DESCRIPTION:Share a warm\, home-cooked meal with your loved ones at Family Dinner. This event brings patients and families together for a comforting and communal dining experience that feels like home.Family dinners are offered weekly on Tuesdays\, beginning at 5 p.m.This event is for current inpatients and their families/caregivers only.
URL:https://shepherd.dev.dvcl.cc/event/family-dinner-2/2026-03-31/
LOCATION:Shepherd Center\, 2020 Peachtree Road NW\, Atlanta\, GA\, 30309\, United States
CATEGORIES:Patient & Family Support
ATTACH;FMTTYPE=image/jpeg:https://shepherd.dev.dvcl.cc/wp-content/uploads/2025/01/patientsmileswithplateoffoodinhand-dvphotovideo2023-1205-170811-0100-scaled.jpg
END:VEVENT
BEGIN:VEVENT
DTSTART;TZID=America/New_York:20250311T170000
DTEND;TZID=America/New_York:20250311T190000
DTSTAMP:20260420T170551
CREATED:20250309T214005Z
LAST-MODIFIED:20250729T183417Z
UID:10001430-1741712400-1741719600@shepherd.dev.dvcl.cc
SUMMARY:Family Dinner
DESCRIPTION:Share a warm\, home-cooked meal with your loved ones at Family Dinner. This event brings patients and families together for a comforting and communal dining experience that feels like home.Family dinners are offered weekly on Tuesdays\, beginning at 5 p.m.This event is for current inpatients and their families/caregivers only.
URL:https://shepherd.dev.dvcl.cc/event/family-dinner-2/2025-03-11/
LOCATION:Shepherd Center\, 2020 Peachtree Road NW\, Atlanta\, GA\, 30309\, United States
CATEGORIES:Patient & Family Support
ATTACH;FMTTYPE=image/jpeg:https://shepherd.dev.dvcl.cc/wp-content/uploads/2025/01/patientsmileswithplateoffoodinhand-dvphotovideo2023-1205-170811-0100-scaled.jpg
END:VEVENT
BEGIN:VEVENT
DTSTART;TZID=America/New_York:20251021T170000
DTEND;TZID=America/New_York:20251021T190000
DTSTAMP:20260420T170551
CREATED:20250309T214005Z
LAST-MODIFIED:20250729T183417Z
UID:10001462-1761066000-1761073200@shepherd.dev.dvcl.cc
SUMMARY:Family Dinner
DESCRIPTION:Share a warm\, home-cooked meal with your loved ones at Family Dinner. This event brings patients and families together for a comforting and communal dining experience that feels like home.Family dinners are offered weekly on Tuesdays\, beginning at 5 p.m.This event is for current inpatients and their families/caregivers only.
URL:https://shepherd.dev.dvcl.cc/event/family-dinner-2/2025-10-21/
LOCATION:Shepherd Center\, 2020 Peachtree Road NW\, Atlanta\, GA\, 30309\, United States
CATEGORIES:Patient & Family Support
ATTACH;FMTTYPE=image/jpeg:https://shepherd.dev.dvcl.cc/wp-content/uploads/2025/01/patientsmileswithplateoffoodinhand-dvphotovideo2023-1205-170811-0100-scaled.jpg
END:VEVENT
BEGIN:VEVENT
DTSTART;TZID=America/New_York:20250527T170000
DTEND;TZID=America/New_York:20250527T190000
DTSTAMP:20260420T170551
CREATED:20250309T214005Z
LAST-MODIFIED:20250729T183417Z
UID:10001441-1748365200-1748372400@shepherd.dev.dvcl.cc
SUMMARY:Family Dinner
DESCRIPTION:Share a warm\, home-cooked meal with your loved ones at Family Dinner. This event brings patients and families together for a comforting and communal dining experience that feels like home.Family dinners are offered weekly on Tuesdays\, beginning at 5 p.m.This event is for current inpatients and their families/caregivers only.
URL:https://shepherd.dev.dvcl.cc/event/family-dinner-2/2025-05-27/
LOCATION:Shepherd Center\, 2020 Peachtree Road NW\, Atlanta\, GA\, 30309\, United States
CATEGORIES:Patient & Family Support
ATTACH;FMTTYPE=image/jpeg:https://shepherd.dev.dvcl.cc/wp-content/uploads/2025/01/patientsmileswithplateoffoodinhand-dvphotovideo2023-1205-170811-0100-scaled.jpg
END:VEVENT
BEGIN:VEVENT
DTSTART;TZID=America/New_York:20260120T170000
DTEND;TZID=America/New_York:20260120T190000
DTSTAMP:20260420T170551
CREATED:20250309T214005Z
LAST-MODIFIED:20250729T183417Z
UID:10001475-1768928400-1768935600@shepherd.dev.dvcl.cc
SUMMARY:Family Dinner
DESCRIPTION:Share a warm\, home-cooked meal with your loved ones at Family Dinner. This event brings patients and families together for a comforting and communal dining experience that feels like home.Family dinners are offered weekly on Tuesdays\, beginning at 5 p.m.This event is for current inpatients and their families/caregivers only.
URL:https://shepherd.dev.dvcl.cc/event/family-dinner-2/2026-01-20/
LOCATION:Shepherd Center\, 2020 Peachtree Road NW\, Atlanta\, GA\, 30309\, United States
CATEGORIES:Patient & Family Support
ATTACH;FMTTYPE=image/jpeg:https://shepherd.dev.dvcl.cc/wp-content/uploads/2025/01/patientsmileswithplateoffoodinhand-dvphotovideo2023-1205-170811-0100-scaled.jpg
END:VEVENT
BEGIN:VEVENT
DTSTART;TZID=America/New_York:20250812T170000
DTEND;TZID=America/New_York:20250812T190000
DTSTAMP:20260420T170551
CREATED:20250309T214005Z
LAST-MODIFIED:20250729T183417Z
UID:10001452-1755018000-1755025200@shepherd.dev.dvcl.cc
SUMMARY:Family Dinner
DESCRIPTION:Share a warm\, home-cooked meal with your loved ones at Family Dinner. This event brings patients and families together for a comforting and communal dining experience that feels like home.Family dinners are offered weekly on Tuesdays\, beginning at 5 p.m.This event is for current inpatients and their families/caregivers only.
URL:https://shepherd.dev.dvcl.cc/event/family-dinner-2/2025-08-12/
LOCATION:Shepherd Center\, 2020 Peachtree Road NW\, Atlanta\, GA\, 30309\, United States
CATEGORIES:Patient & Family Support
ATTACH;FMTTYPE=image/jpeg:https://shepherd.dev.dvcl.cc/wp-content/uploads/2025/01/patientsmileswithplateoffoodinhand-dvphotovideo2023-1205-170811-0100-scaled.jpg
END:VEVENT
BEGIN:VEVENT
DTSTART;TZID=America/New_York:20260407T170000
DTEND;TZID=America/New_York:20260407T190000
DTSTAMP:20260420T170551
CREATED:20250309T214005Z
LAST-MODIFIED:20250729T183417Z
UID:10001486-1775581200-1775588400@shepherd.dev.dvcl.cc
SUMMARY:Family Dinner
DESCRIPTION:Share a warm\, home-cooked meal with your loved ones at Family Dinner. This event brings patients and families together for a comforting and communal dining experience that feels like home.Family dinners are offered weekly on Tuesdays\, beginning at 5 p.m.This event is for current inpatients and their families/caregivers only.
URL:https://shepherd.dev.dvcl.cc/event/family-dinner-2/2026-04-07/
LOCATION:Shepherd Center\, 2020 Peachtree Road NW\, Atlanta\, GA\, 30309\, United States
CATEGORIES:Patient & Family Support
ATTACH;FMTTYPE=image/jpeg:https://shepherd.dev.dvcl.cc/wp-content/uploads/2025/01/patientsmileswithplateoffoodinhand-dvphotovideo2023-1205-170811-0100-scaled.jpg
END:VEVENT
BEGIN:VEVENT
DTSTART;TZID=America/New_York:20250318T170000
DTEND;TZID=America/New_York:20250318T190000
DTSTAMP:20260420T170551
CREATED:20250309T214005Z
LAST-MODIFIED:20250729T183417Z
UID:10001431-1742317200-1742324400@shepherd.dev.dvcl.cc
SUMMARY:Family Dinner
DESCRIPTION:Share a warm\, home-cooked meal with your loved ones at Family Dinner. This event brings patients and families together for a comforting and communal dining experience that feels like home.Family dinners are offered weekly on Tuesdays\, beginning at 5 p.m.This event is for current inpatients and their families/caregivers only.
URL:https://shepherd.dev.dvcl.cc/event/family-dinner-2/2025-03-18/
LOCATION:Shepherd Center\, 2020 Peachtree Road NW\, Atlanta\, GA\, 30309\, United States
CATEGORIES:Patient & Family Support
ATTACH;FMTTYPE=image/jpeg:https://shepherd.dev.dvcl.cc/wp-content/uploads/2025/01/patientsmileswithplateoffoodinhand-dvphotovideo2023-1205-170811-0100-scaled.jpg
END:VEVENT
BEGIN:VEVENT
DTSTART;TZID=America/New_York:20251028T170000
DTEND;TZID=America/New_York:20251028T190000
DTSTAMP:20260420T170551
CREATED:20250309T214005Z
LAST-MODIFIED:20250729T183417Z
UID:10001463-1761670800-1761678000@shepherd.dev.dvcl.cc
SUMMARY:Family Dinner
DESCRIPTION:Share a warm\, home-cooked meal with your loved ones at Family Dinner. This event brings patients and families together for a comforting and communal dining experience that feels like home.Family dinners are offered weekly on Tuesdays\, beginning at 5 p.m.This event is for current inpatients and their families/caregivers only.
URL:https://shepherd.dev.dvcl.cc/event/family-dinner-2/2025-10-28/
LOCATION:Shepherd Center\, 2020 Peachtree Road NW\, Atlanta\, GA\, 30309\, United States
CATEGORIES:Patient & Family Support
ATTACH;FMTTYPE=image/jpeg:https://shepherd.dev.dvcl.cc/wp-content/uploads/2025/01/patientsmileswithplateoffoodinhand-dvphotovideo2023-1205-170811-0100-scaled.jpg
END:VEVENT
BEGIN:VEVENT
DTSTART;TZID=America/New_York:20250603T170000
DTEND;TZID=America/New_York:20250603T190000
DTSTAMP:20260420T170551
CREATED:20250309T214005Z
LAST-MODIFIED:20250729T183417Z
UID:10001442-1748970000-1748977200@shepherd.dev.dvcl.cc
SUMMARY:Family Dinner
DESCRIPTION:Share a warm\, home-cooked meal with your loved ones at Family Dinner. This event brings patients and families together for a comforting and communal dining experience that feels like home.Family dinners are offered weekly on Tuesdays\, beginning at 5 p.m.This event is for current inpatients and their families/caregivers only.
URL:https://shepherd.dev.dvcl.cc/event/family-dinner-2/2025-06-03/
LOCATION:Shepherd Center\, 2020 Peachtree Road NW\, Atlanta\, GA\, 30309\, United States
CATEGORIES:Patient & Family Support
ATTACH;FMTTYPE=image/jpeg:https://shepherd.dev.dvcl.cc/wp-content/uploads/2025/01/patientsmileswithplateoffoodinhand-dvphotovideo2023-1205-170811-0100-scaled.jpg
END:VEVENT
BEGIN:VEVENT
DTSTART;TZID=America/New_York:20260127T170000
DTEND;TZID=America/New_York:20260127T190000
DTSTAMP:20260420T170551
CREATED:20250309T214005Z
LAST-MODIFIED:20250729T183417Z
UID:10001476-1769533200-1769540400@shepherd.dev.dvcl.cc
SUMMARY:Family Dinner
DESCRIPTION:Share a warm\, home-cooked meal with your loved ones at Family Dinner. This event brings patients and families together for a comforting and communal dining experience that feels like home.Family dinners are offered weekly on Tuesdays\, beginning at 5 p.m.This event is for current inpatients and their families/caregivers only.
URL:https://shepherd.dev.dvcl.cc/event/family-dinner-2/2026-01-27/
LOCATION:Shepherd Center\, 2020 Peachtree Road NW\, Atlanta\, GA\, 30309\, United States
CATEGORIES:Patient & Family Support
ATTACH;FMTTYPE=image/jpeg:https://shepherd.dev.dvcl.cc/wp-content/uploads/2025/01/patientsmileswithplateoffoodinhand-dvphotovideo2023-1205-170811-0100-scaled.jpg
END:VEVENT
BEGIN:VEVENT
DTSTART;TZID=America/New_York:20250819T170000
DTEND;TZID=America/New_York:20250819T190000
DTSTAMP:20260420T170551
CREATED:20250309T214005Z
LAST-MODIFIED:20250729T183417Z
UID:10001453-1755622800-1755630000@shepherd.dev.dvcl.cc
SUMMARY:Family Dinner
DESCRIPTION:Share a warm\, home-cooked meal with your loved ones at Family Dinner. This event brings patients and families together for a comforting and communal dining experience that feels like home.Family dinners are offered weekly on Tuesdays\, beginning at 5 p.m.This event is for current inpatients and their families/caregivers only.
URL:https://shepherd.dev.dvcl.cc/event/family-dinner-2/2025-08-19/
LOCATION:Shepherd Center\, 2020 Peachtree Road NW\, Atlanta\, GA\, 30309\, United States
CATEGORIES:Patient & Family Support
ATTACH;FMTTYPE=image/jpeg:https://shepherd.dev.dvcl.cc/wp-content/uploads/2025/01/patientsmileswithplateoffoodinhand-dvphotovideo2023-1205-170811-0100-scaled.jpg
END:VEVENT
BEGIN:VEVENT
DTSTART;TZID=America/New_York:20260414T170000
DTEND;TZID=America/New_York:20260414T190000
DTSTAMP:20260420T170551
CREATED:20250309T214005Z
LAST-MODIFIED:20250729T183417Z
UID:10001487-1776186000-1776193200@shepherd.dev.dvcl.cc
SUMMARY:Family Dinner
DESCRIPTION:Share a warm\, home-cooked meal with your loved ones at Family Dinner. This event brings patients and families together for a comforting and communal dining experience that feels like home.Family dinners are offered weekly on Tuesdays\, beginning at 5 p.m.This event is for current inpatients and their families/caregivers only.
URL:https://shepherd.dev.dvcl.cc/event/family-dinner-2/2026-04-14/
LOCATION:Shepherd Center\, 2020 Peachtree Road NW\, Atlanta\, GA\, 30309\, United States
CATEGORIES:Patient & Family Support
ATTACH;FMTTYPE=image/jpeg:https://shepherd.dev.dvcl.cc/wp-content/uploads/2025/01/patientsmileswithplateoffoodinhand-dvphotovideo2023-1205-170811-0100-scaled.jpg
END:VEVENT
BEGIN:VEVENT
DTSTART;TZID=America/New_York:20250325T170000
DTEND;TZID=America/New_York:20250325T190000
DTSTAMP:20260420T170551
CREATED:20250309T214005Z
LAST-MODIFIED:20250729T183417Z
UID:10001432-1742922000-1742929200@shepherd.dev.dvcl.cc
SUMMARY:Family Dinner
DESCRIPTION:Share a warm\, home-cooked meal with your loved ones at Family Dinner. This event brings patients and families together for a comforting and communal dining experience that feels like home.Family dinners are offered weekly on Tuesdays\, beginning at 5 p.m.This event is for current inpatients and their families/caregivers only.
URL:https://shepherd.dev.dvcl.cc/event/family-dinner-2/2025-03-25/
LOCATION:Shepherd Center\, 2020 Peachtree Road NW\, Atlanta\, GA\, 30309\, United States
CATEGORIES:Patient & Family Support
ATTACH;FMTTYPE=image/jpeg:https://shepherd.dev.dvcl.cc/wp-content/uploads/2025/01/patientsmileswithplateoffoodinhand-dvphotovideo2023-1205-170811-0100-scaled.jpg
END:VEVENT
BEGIN:VEVENT
DTSTART;TZID=America/New_York:20251104T170000
DTEND;TZID=America/New_York:20251104T190000
DTSTAMP:20260420T170551
CREATED:20250309T214005Z
LAST-MODIFIED:20250729T183417Z
UID:10001464-1762275600-1762282800@shepherd.dev.dvcl.cc
SUMMARY:Family Dinner
DESCRIPTION:Share a warm\, home-cooked meal with your loved ones at Family Dinner. This event brings patients and families together for a comforting and communal dining experience that feels like home.Family dinners are offered weekly on Tuesdays\, beginning at 5 p.m.This event is for current inpatients and their families/caregivers only.
URL:https://shepherd.dev.dvcl.cc/event/family-dinner-2/2025-11-04/
LOCATION:Shepherd Center\, 2020 Peachtree Road NW\, Atlanta\, GA\, 30309\, United States
CATEGORIES:Patient & Family Support
ATTACH;FMTTYPE=image/jpeg:https://shepherd.dev.dvcl.cc/wp-content/uploads/2025/01/patientsmileswithplateoffoodinhand-dvphotovideo2023-1205-170811-0100-scaled.jpg
END:VEVENT
BEGIN:VEVENT
DTSTART;TZID=America/New_York:20250610T170000
DTEND;TZID=America/New_York:20250610T190000
DTSTAMP:20260420T170551
CREATED:20250309T214005Z
LAST-MODIFIED:20250729T183417Z
UID:10001443-1749574800-1749582000@shepherd.dev.dvcl.cc
SUMMARY:Family Dinner
DESCRIPTION:Share a warm\, home-cooked meal with your loved ones at Family Dinner. This event brings patients and families together for a comforting and communal dining experience that feels like home.Family dinners are offered weekly on Tuesdays\, beginning at 5 p.m.This event is for current inpatients and their families/caregivers only.
URL:https://shepherd.dev.dvcl.cc/event/family-dinner-2/2025-06-10/
LOCATION:Shepherd Center\, 2020 Peachtree Road NW\, Atlanta\, GA\, 30309\, United States
CATEGORIES:Patient & Family Support
ATTACH;FMTTYPE=image/jpeg:https://shepherd.dev.dvcl.cc/wp-content/uploads/2025/01/patientsmileswithplateoffoodinhand-dvphotovideo2023-1205-170811-0100-scaled.jpg
END:VEVENT
END:VCALENDAR