BEGIN:VCALENDAR
VERSION:2.0
PRODID:-//Shepherd Center - ECPv6.15.16//NONSGML v1.0//EN
CALSCALE:GREGORIAN
METHOD:PUBLISH
X-WR-CALNAME:Shepherd Center
X-ORIGINAL-URL:https://shepherd.dev.dvcl.cc
X-WR-CALDESC:Events for Shepherd Center
REFRESH-INTERVAL;VALUE=DURATION:PT1H
X-Robots-Tag:noindex
X-PUBLISHED-TTL:PT1H
BEGIN:VTIMEZONE
TZID:America/New_York
BEGIN:DAYLIGHT
TZOFFSETFROM:-0500
TZOFFSETTO:-0400
TZNAME:EDT
DTSTART:20240310T070000
END:DAYLIGHT
BEGIN:STANDARD
TZOFFSETFROM:-0400
TZOFFSETTO:-0500
TZNAME:EST
DTSTART:20241103T060000
END:STANDARD
BEGIN:DAYLIGHT
TZOFFSETFROM:-0500
TZOFFSETTO:-0400
TZNAME:EDT
DTSTART:20250309T070000
END:DAYLIGHT
BEGIN:STANDARD
TZOFFSETFROM:-0400
TZOFFSETTO:-0500
TZNAME:EST
DTSTART:20251102T060000
END:STANDARD
BEGIN:DAYLIGHT
TZOFFSETFROM:-0500
TZOFFSETTO:-0400
TZNAME:EDT
DTSTART:20260308T070000
END:DAYLIGHT
BEGIN:STANDARD
TZOFFSETFROM:-0400
TZOFFSETTO:-0500
TZNAME:EST
DTSTART:20261101T060000
END:STANDARD
BEGIN:DAYLIGHT
TZOFFSETFROM:-0500
TZOFFSETTO:-0400
TZNAME:EDT
DTSTART:20270314T070000
END:DAYLIGHT
BEGIN:STANDARD
TZOFFSETFROM:-0400
TZOFFSETTO:-0500
TZNAME:EST
DTSTART:20271107T060000
END:STANDARD
END:VTIMEZONE
BEGIN:VEVENT
DTSTART;TZID=America/New_York:20250516T100000
DTEND;TZID=America/New_York:20250516T104500
DTSTAMP:20260420T165903
CREATED:20250509T143121Z
LAST-MODIFIED:20250509T143122Z
UID:10001736-1747389600-1747392300@shepherd.dev.dvcl.cc
SUMMARY:Yoga for Caregivers
DESCRIPTION:No experience necessary! Give yourself this opportunity to relax and reconnect with yourself. Mats and chairs provided. All families and caregivers of current inpatients are welcome. Sponsored by Yonder Yoga.
URL:https://shepherd.dev.dvcl.cc/event/yoga-for-caregivers/
LOCATION:Shepherd Center\, 2020 Peachtree Road NW\, Atlanta\, GA\, 30309\, United States
CATEGORIES:Patient & Family Support
ATTACH;FMTTYPE=image/jpeg:https://shepherd.dev.dvcl.cc/wp-content/uploads/caregiver-yoga.jpg
END:VEVENT
BEGIN:VEVENT
DTSTART;TZID=America/New_York:20250529T100000
DTEND;TZID=America/New_York:20250529T113000
DTSTAMP:20260420T165903
CREATED:20250509T143036Z
LAST-MODIFIED:20250509T143037Z
UID:10001735-1748512800-1748518200@shepherd.dev.dvcl.cc
SUMMARY:Family Brunch
DESCRIPTION:Join us for a complimentary brunch for inpatient family members! Enjoy a delicious meal\, connect with other families\, and relax in the 6th Floor Family Lounge.
URL:https://shepherd.dev.dvcl.cc/event/family-brunch-5/
LOCATION:Shepherd Center\, 2020 Peachtree Road NW\, Atlanta\, GA\, 30309\, United States
CATEGORIES:Patient & Family Support
END:VEVENT
BEGIN:VEVENT
DTSTART;TZID=America/New_York:20250515T100000
DTEND;TZID=America/New_York:20250515T113000
DTSTAMP:20260420T165903
CREATED:20250509T142956Z
LAST-MODIFIED:20250509T142957Z
UID:10001734-1747303200-1747308600@shepherd.dev.dvcl.cc
SUMMARY:Family Brunch
DESCRIPTION:Join us for a complimentary brunch for inpatient family members! Enjoy a delicious meal\, connect with other families\, and relax in the 6th Floor Family Lounge.
URL:https://shepherd.dev.dvcl.cc/event/family-brunch-4/
LOCATION:Shepherd Center\, 2020 Peachtree Road NW\, Atlanta\, GA\, 30309\, United States
CATEGORIES:Patient & Family Support
END:VEVENT
BEGIN:VEVENT
DTSTART;TZID=America/New_York:20250512T180000
DTEND;TZID=America/New_York:20250512T190000
DTSTAMP:20260420T165903
CREATED:20250509T142847Z
LAST-MODIFIED:20250509T142849Z
UID:10001733-1747072800-1747076400@shepherd.dev.dvcl.cc
SUMMARY:Magic Show
DESCRIPTION:Join us for a free magic show for inpatients and their families! Get ready for laughter and mind-blowing tricks that will leave you amazed. Don’t miss this chance to enjoy some fun and magic together!
URL:https://shepherd.dev.dvcl.cc/event/magic-show-3/
LOCATION:Shepherd Center\, 2020 Peachtree Road NW\, Atlanta\, GA\, 30309\, United States
CATEGORIES:Patient & Family Support
END:VEVENT
BEGIN:VEVENT
DTSTART;TZID=America/New_York:20250520T130000
DTEND;TZID=America/New_York:20250520T150000
DTSTAMP:20260420T165903
CREATED:20250509T134608Z
LAST-MODIFIED:20250509T134610Z
UID:10001001-1747746000-1747753200@shepherd.dev.dvcl.cc
SUMMARY:Family Chair Massages
DESCRIPTION:Take a moment to relax and recharge with a soothing chair massage. Designed for families and caregivers of current inpatients\, these short\, stress-relieving massages help ease tension\, promote relaxation\, and provide a little extra comfort during your time at Shepherd Center.
URL:https://shepherd.dev.dvcl.cc/event/family-chair-massages-4/
LOCATION:Shepherd Center\, 2020 Peachtree Road NW\, Atlanta\, GA\, 30309\, United States
CATEGORIES:Patient & Family Support
ATTACH;FMTTYPE=image/jpeg:https://shepherd.dev.dvcl.cc/wp-content/uploads/familymassage25-scaled.jpg
END:VEVENT
BEGIN:VEVENT
DTSTART;TZID=America/New_York:20250429T130000
DTEND;TZID=America/New_York:20250429T150000
DTSTAMP:20260420T165903
CREATED:20250414T202703Z
LAST-MODIFIED:20250414T202705Z
UID:10000999-1745931600-1745938800@shepherd.dev.dvcl.cc
SUMMARY:Family Chair Massages
DESCRIPTION:Take a moment to relax and recharge with a soothing chair massage. Designed for families and caregivers of current inpatients\, these short\, stress-relieving massages help ease tension\, promote relaxation\, and provide a little extra comfort during your time at Shepherd Center.
URL:https://shepherd.dev.dvcl.cc/event/family-chair-massages-april-2025/
LOCATION:Shepherd Center\, 2020 Peachtree Road NW\, Atlanta\, GA\, 30309\, United States
CATEGORIES:Patient & Family Support
ATTACH;FMTTYPE=image/jpeg:https://shepherd.dev.dvcl.cc/wp-content/uploads/familymassage25-scaled.jpg
END:VEVENT
BEGIN:VEVENT
DTSTART;TZID=America/New_York:20250417T153000
DTEND;TZID=America/New_York:20250417T170000
DTSTAMP:20260420T165903
CREATED:20250411T132834Z
LAST-MODIFIED:20250411T132836Z
UID:10001709-1744903800-1744909200@shepherd.dev.dvcl.cc
SUMMARY:Family Ice Cream Social
DESCRIPTION:Join us for complimentary ice cream for inpatient family members while connecting with other families in the 6th-floor Family Lounge.
URL:https://shepherd.dev.dvcl.cc/event/family-ice-cream-social/
LOCATION:Shepherd Center\, 2020 Peachtree Road NW\, Atlanta\, GA\, 30309\, United States
CATEGORIES:Patient & Family Support
END:VEVENT
BEGIN:VEVENT
DTSTART;TZID=America/New_York:20250426T113000
DTEND;TZID=America/New_York:20250426T130000
DTSTAMP:20260420T165903
CREATED:20250411T132644Z
LAST-MODIFIED:20250411T132645Z
UID:10001708-1745667000-1745672400@shepherd.dev.dvcl.cc
SUMMARY:ABI Family Brunch
DESCRIPTION:Join us for a complimentary brunch for ABI inpatient family members! Enjoy a delicious meal\, connect with other families\, and relax in the 7th Floor Auditorium.
URL:https://shepherd.dev.dvcl.cc/event/abi-family-brunch/
LOCATION:Shepherd Center\, 2020 Peachtree Road NW\, Atlanta\, GA\, 30309\, United States
CATEGORIES:Patient & Family Support
END:VEVENT
BEGIN:VEVENT
DTSTART;TZID=America/New_York:20250424T100000
DTEND;TZID=America/New_York:20250424T113000
DTSTAMP:20260420T165903
CREATED:20250411T132503Z
LAST-MODIFIED:20250415T143831Z
UID:10001707-1745488800-1745494200@shepherd.dev.dvcl.cc
SUMMARY:April Family Brunch
DESCRIPTION:Join us for a complimentary brunch for inpatient family members! Enjoy a delicious meal\, connect with other families\, and relax in the 6th Floor Family Lounge.
URL:https://shepherd.dev.dvcl.cc/event/family-brunch-3/
LOCATION:Shepherd Center\, 2020 Peachtree Road NW\, Atlanta\, GA\, 30309\, United States
CATEGORIES:Patient & Family Support
END:VEVENT
BEGIN:VEVENT
DTSTART;TZID=America/New_York:20250414T180000
DTEND;TZID=America/New_York:20250414T190000
DTSTAMP:20260420T165903
CREATED:20250411T132341Z
LAST-MODIFIED:20250411T132343Z
UID:10001706-1744653600-1744657200@shepherd.dev.dvcl.cc
SUMMARY:Magic Show
DESCRIPTION:Join us for a free magic show for inpatients and their families! Get ready for laughter and mind-blowing tricks that will leave you amazed. Don’t miss this chance to enjoy some fun and magic together!
URL:https://shepherd.dev.dvcl.cc/event/magic-show-2/
LOCATION:Shepherd Center\, 2020 Peachtree Road NW\, Atlanta\, GA\, 30309\, United States
CATEGORIES:Patient & Family Support
END:VEVENT
BEGIN:VEVENT
DTSTART;TZID=America/New_York:20250411T100000
DTEND;TZID=America/New_York:20250411T104500
DTSTAMP:20260420T165903
CREATED:20250411T131912Z
LAST-MODIFIED:20250411T131914Z
UID:10001705-1744365600-1744368300@shepherd.dev.dvcl.cc
SUMMARY:Yoga for Caregivers
DESCRIPTION:No experience necessary! Give yourself this opportunity to relax and reconnect with yourself. Mats and chairs provided. All families and caregivers of current inpatients are welcome. Sponsored by Yonder Yoga.
URL:https://shepherd.dev.dvcl.cc/event/yoga-for-caregivers-2/
LOCATION:Shepherd Center\, 2020 Peachtree Road NW\, Atlanta\, GA\, 30309\, United States
CATEGORIES:Patient & Family Support
ATTACH;FMTTYPE=image/jpeg:https://shepherd.dev.dvcl.cc/wp-content/uploads/caregiver-yoga.jpg
END:VEVENT
BEGIN:VEVENT
DTSTART;TZID=America/New_York:20250410T100000
DTEND;TZID=America/New_York:20250410T113000
DTSTAMP:20260420T165904
CREATED:20250408T172941Z
LAST-MODIFIED:20250408T172942Z
UID:10001704-1744279200-1744284600@shepherd.dev.dvcl.cc
SUMMARY:Family Brunch
DESCRIPTION:Join us for a complimentary brunch for inpatient family members! Enjoy a delicious meal\, connect with other families\, and relax in the 6th Floor Family Lounge.
URL:https://shepherd.dev.dvcl.cc/event/family-brunch-2/
LOCATION:Shepherd Center\, 2020 Peachtree Road NW\, Atlanta\, GA\, 30309\, United States
CATEGORIES:Patient & Family Support
END:VEVENT
BEGIN:VEVENT
DTSTART;TZID=America/New_York:20251009T000000
DTEND;TZID=America/New_York:20251009T235959
DTSTAMP:20260420T165904
CREATED:20250331T165119Z
LAST-MODIFIED:20250829T002106Z
UID:10000290-1759968000-1760054399@shepherd.dev.dvcl.cc
SUMMARY:Fall Adaptive Horticulture Clinic
DESCRIPTION:Join Shepherd Center for a clinic focused on basic horticulture and nature crafts. Program activity will be fairy gardens/terrariums.The $20 fee includes a t-shirt\, instruction\, and equipment.Registration is required for all events and opens at least six weeks prior to the start of the class or course. Most courses require a small fee; however\, financial assistance is available. Please contact Katie Harmon at katie.harmon@shepherd.org for more information regarding requirements for financial assistance. \n\n\n\n	\n																			\n												\n							Register on CampDoc
URL:https://shepherd.dev.dvcl.cc/event/horticulture-clinic-october-2025/2025-10-09/
LOCATION:Shepherd Center\, 2020 Peachtree Road NW\, Atlanta\, GA\, 30309\, United States
CATEGORIES:Health & Wellness Clinics
ATTACH;FMTTYPE=image/jpeg:https://shepherd.dev.dvcl.cc/wp-content/uploads/horticulture-clinic.jpg
END:VEVENT
BEGIN:VEVENT
DTSTART;TZID=America/New_York:20250902T170000
DTEND;TZID=America/New_York:20250902T190000
DTSTAMP:20260420T165904
CREATED:20250309T214005Z
LAST-MODIFIED:20250729T183417Z
UID:10001455-1756832400-1756839600@shepherd.dev.dvcl.cc
SUMMARY:Family Dinner
DESCRIPTION:Share a warm\, home-cooked meal with your loved ones at Family Dinner. This event brings patients and families together for a comforting and communal dining experience that feels like home.Family dinners are offered weekly on Tuesdays\, beginning at 5 p.m.This event is for current inpatients and their families/caregivers only.
URL:https://shepherd.dev.dvcl.cc/event/family-dinner-2/2025-09-02/
LOCATION:Shepherd Center\, 2020 Peachtree Road NW\, Atlanta\, GA\, 30309\, United States
CATEGORIES:Patient & Family Support
ATTACH;FMTTYPE=image/jpeg:https://shepherd.dev.dvcl.cc/wp-content/uploads/2025/01/patientsmileswithplateoffoodinhand-dvphotovideo2023-1205-170811-0100-scaled.jpg
END:VEVENT
BEGIN:VEVENT
DTSTART;TZID=America/New_York:20250408T170000
DTEND;TZID=America/New_York:20250408T190000
DTSTAMP:20260420T165904
CREATED:20250309T214005Z
LAST-MODIFIED:20250729T183417Z
UID:10001434-1744131600-1744138800@shepherd.dev.dvcl.cc
SUMMARY:Family Dinner
DESCRIPTION:Share a warm\, home-cooked meal with your loved ones at Family Dinner. This event brings patients and families together for a comforting and communal dining experience that feels like home.Family dinners are offered weekly on Tuesdays\, beginning at 5 p.m.This event is for current inpatients and their families/caregivers only.
URL:https://shepherd.dev.dvcl.cc/event/family-dinner-2/2025-04-08/
LOCATION:Shepherd Center\, 2020 Peachtree Road NW\, Atlanta\, GA\, 30309\, United States
CATEGORIES:Patient & Family Support
ATTACH;FMTTYPE=image/jpeg:https://shepherd.dev.dvcl.cc/wp-content/uploads/2025/01/patientsmileswithplateoffoodinhand-dvphotovideo2023-1205-170811-0100-scaled.jpg
END:VEVENT
BEGIN:VEVENT
DTSTART;TZID=America/New_York:20251118T170000
DTEND;TZID=America/New_York:20251118T190000
DTSTAMP:20260420T165904
CREATED:20250309T214005Z
LAST-MODIFIED:20250729T183417Z
UID:10001466-1763485200-1763492400@shepherd.dev.dvcl.cc
SUMMARY:Family Dinner
DESCRIPTION:Share a warm\, home-cooked meal with your loved ones at Family Dinner. This event brings patients and families together for a comforting and communal dining experience that feels like home.Family dinners are offered weekly on Tuesdays\, beginning at 5 p.m.This event is for current inpatients and their families/caregivers only.
URL:https://shepherd.dev.dvcl.cc/event/family-dinner-2/2025-11-18/
LOCATION:Shepherd Center\, 2020 Peachtree Road NW\, Atlanta\, GA\, 30309\, United States
CATEGORIES:Patient & Family Support
ATTACH;FMTTYPE=image/jpeg:https://shepherd.dev.dvcl.cc/wp-content/uploads/2025/01/patientsmileswithplateoffoodinhand-dvphotovideo2023-1205-170811-0100-scaled.jpg
END:VEVENT
BEGIN:VEVENT
DTSTART;TZID=America/New_York:20250624T170000
DTEND;TZID=America/New_York:20250624T190000
DTSTAMP:20260420T165904
CREATED:20250309T214005Z
LAST-MODIFIED:20250729T183417Z
UID:10001445-1750784400-1750791600@shepherd.dev.dvcl.cc
SUMMARY:Family Dinner
DESCRIPTION:Share a warm\, home-cooked meal with your loved ones at Family Dinner. This event brings patients and families together for a comforting and communal dining experience that feels like home.Family dinners are offered weekly on Tuesdays\, beginning at 5 p.m.This event is for current inpatients and their families/caregivers only.
URL:https://shepherd.dev.dvcl.cc/event/family-dinner-2/2025-06-24/
LOCATION:Shepherd Center\, 2020 Peachtree Road NW\, Atlanta\, GA\, 30309\, United States
CATEGORIES:Patient & Family Support
ATTACH;FMTTYPE=image/jpeg:https://shepherd.dev.dvcl.cc/wp-content/uploads/2025/01/patientsmileswithplateoffoodinhand-dvphotovideo2023-1205-170811-0100-scaled.jpg
END:VEVENT
BEGIN:VEVENT
DTSTART;TZID=America/New_York:20260217T170000
DTEND;TZID=America/New_York:20260217T190000
DTSTAMP:20260420T165904
CREATED:20250309T214005Z
LAST-MODIFIED:20250729T183417Z
UID:10001479-1771347600-1771354800@shepherd.dev.dvcl.cc
SUMMARY:Family Dinner
DESCRIPTION:Share a warm\, home-cooked meal with your loved ones at Family Dinner. This event brings patients and families together for a comforting and communal dining experience that feels like home.Family dinners are offered weekly on Tuesdays\, beginning at 5 p.m.This event is for current inpatients and their families/caregivers only.
URL:https://shepherd.dev.dvcl.cc/event/family-dinner-2/2026-02-17/
LOCATION:Shepherd Center\, 2020 Peachtree Road NW\, Atlanta\, GA\, 30309\, United States
CATEGORIES:Patient & Family Support
ATTACH;FMTTYPE=image/jpeg:https://shepherd.dev.dvcl.cc/wp-content/uploads/2025/01/patientsmileswithplateoffoodinhand-dvphotovideo2023-1205-170811-0100-scaled.jpg
END:VEVENT
BEGIN:VEVENT
DTSTART;TZID=America/New_York:20250909T170000
DTEND;TZID=America/New_York:20250909T190000
DTSTAMP:20260420T165904
CREATED:20250309T214005Z
LAST-MODIFIED:20250729T183417Z
UID:10001456-1757437200-1757444400@shepherd.dev.dvcl.cc
SUMMARY:Family Dinner
DESCRIPTION:Share a warm\, home-cooked meal with your loved ones at Family Dinner. This event brings patients and families together for a comforting and communal dining experience that feels like home.Family dinners are offered weekly on Tuesdays\, beginning at 5 p.m.This event is for current inpatients and their families/caregivers only.
URL:https://shepherd.dev.dvcl.cc/event/family-dinner-2/2025-09-09/
LOCATION:Shepherd Center\, 2020 Peachtree Road NW\, Atlanta\, GA\, 30309\, United States
CATEGORIES:Patient & Family Support
ATTACH;FMTTYPE=image/jpeg:https://shepherd.dev.dvcl.cc/wp-content/uploads/2025/01/patientsmileswithplateoffoodinhand-dvphotovideo2023-1205-170811-0100-scaled.jpg
END:VEVENT
BEGIN:VEVENT
DTSTART;TZID=America/New_York:20250415T170000
DTEND;TZID=America/New_York:20250415T190000
DTSTAMP:20260420T165904
CREATED:20250309T214005Z
LAST-MODIFIED:20250729T183417Z
UID:10001435-1744736400-1744743600@shepherd.dev.dvcl.cc
SUMMARY:Family Dinner
DESCRIPTION:Share a warm\, home-cooked meal with your loved ones at Family Dinner. This event brings patients and families together for a comforting and communal dining experience that feels like home.Family dinners are offered weekly on Tuesdays\, beginning at 5 p.m.This event is for current inpatients and their families/caregivers only.
URL:https://shepherd.dev.dvcl.cc/event/family-dinner-2/2025-04-15/
LOCATION:Shepherd Center\, 2020 Peachtree Road NW\, Atlanta\, GA\, 30309\, United States
CATEGORIES:Patient & Family Support
ATTACH;FMTTYPE=image/jpeg:https://shepherd.dev.dvcl.cc/wp-content/uploads/2025/01/patientsmileswithplateoffoodinhand-dvphotovideo2023-1205-170811-0100-scaled.jpg
END:VEVENT
BEGIN:VEVENT
DTSTART;TZID=America/New_York:20251125T170000
DTEND;TZID=America/New_York:20251125T190000
DTSTAMP:20260420T165904
CREATED:20250309T214005Z
LAST-MODIFIED:20250729T183417Z
UID:10001467-1764090000-1764097200@shepherd.dev.dvcl.cc
SUMMARY:Family Dinner
DESCRIPTION:Share a warm\, home-cooked meal with your loved ones at Family Dinner. This event brings patients and families together for a comforting and communal dining experience that feels like home.Family dinners are offered weekly on Tuesdays\, beginning at 5 p.m.This event is for current inpatients and their families/caregivers only.
URL:https://shepherd.dev.dvcl.cc/event/family-dinner-2/2025-11-25/
LOCATION:Shepherd Center\, 2020 Peachtree Road NW\, Atlanta\, GA\, 30309\, United States
CATEGORIES:Patient & Family Support
ATTACH;FMTTYPE=image/jpeg:https://shepherd.dev.dvcl.cc/wp-content/uploads/2025/01/patientsmileswithplateoffoodinhand-dvphotovideo2023-1205-170811-0100-scaled.jpg
END:VEVENT
BEGIN:VEVENT
DTSTART;TZID=America/New_York:20250701T170000
DTEND;TZID=America/New_York:20250701T190000
DTSTAMP:20260420T165904
CREATED:20250309T214005Z
LAST-MODIFIED:20250729T183417Z
UID:10001446-1751389200-1751396400@shepherd.dev.dvcl.cc
SUMMARY:Family Dinner
DESCRIPTION:Share a warm\, home-cooked meal with your loved ones at Family Dinner. This event brings patients and families together for a comforting and communal dining experience that feels like home.Family dinners are offered weekly on Tuesdays\, beginning at 5 p.m.This event is for current inpatients and their families/caregivers only.
URL:https://shepherd.dev.dvcl.cc/event/family-dinner-2/2025-07-01/
LOCATION:Shepherd Center\, 2020 Peachtree Road NW\, Atlanta\, GA\, 30309\, United States
CATEGORIES:Patient & Family Support
ATTACH;FMTTYPE=image/jpeg:https://shepherd.dev.dvcl.cc/wp-content/uploads/2025/01/patientsmileswithplateoffoodinhand-dvphotovideo2023-1205-170811-0100-scaled.jpg
END:VEVENT
BEGIN:VEVENT
DTSTART;TZID=America/New_York:20260224T170000
DTEND;TZID=America/New_York:20260224T190000
DTSTAMP:20260420T165904
CREATED:20250309T214005Z
LAST-MODIFIED:20250729T183417Z
UID:10001480-1771952400-1771959600@shepherd.dev.dvcl.cc
SUMMARY:Family Dinner
DESCRIPTION:Share a warm\, home-cooked meal with your loved ones at Family Dinner. This event brings patients and families together for a comforting and communal dining experience that feels like home.Family dinners are offered weekly on Tuesdays\, beginning at 5 p.m.This event is for current inpatients and their families/caregivers only.
URL:https://shepherd.dev.dvcl.cc/event/family-dinner-2/2026-02-24/
LOCATION:Shepherd Center\, 2020 Peachtree Road NW\, Atlanta\, GA\, 30309\, United States
CATEGORIES:Patient & Family Support
ATTACH;FMTTYPE=image/jpeg:https://shepherd.dev.dvcl.cc/wp-content/uploads/2025/01/patientsmileswithplateoffoodinhand-dvphotovideo2023-1205-170811-0100-scaled.jpg
END:VEVENT
BEGIN:VEVENT
DTSTART;TZID=America/New_York:20250916T170000
DTEND;TZID=America/New_York:20250916T190000
DTSTAMP:20260420T165904
CREATED:20250309T214005Z
LAST-MODIFIED:20250729T183417Z
UID:10001457-1758042000-1758049200@shepherd.dev.dvcl.cc
SUMMARY:Family Dinner
DESCRIPTION:Share a warm\, home-cooked meal with your loved ones at Family Dinner. This event brings patients and families together for a comforting and communal dining experience that feels like home.Family dinners are offered weekly on Tuesdays\, beginning at 5 p.m.This event is for current inpatients and their families/caregivers only.
URL:https://shepherd.dev.dvcl.cc/event/family-dinner-2/2025-09-16/
LOCATION:Shepherd Center\, 2020 Peachtree Road NW\, Atlanta\, GA\, 30309\, United States
CATEGORIES:Patient & Family Support
ATTACH;FMTTYPE=image/jpeg:https://shepherd.dev.dvcl.cc/wp-content/uploads/2025/01/patientsmileswithplateoffoodinhand-dvphotovideo2023-1205-170811-0100-scaled.jpg
END:VEVENT
BEGIN:VEVENT
DTSTART;TZID=America/New_York:20250422T170000
DTEND;TZID=America/New_York:20250422T190000
DTSTAMP:20260420T165904
CREATED:20250309T214005Z
LAST-MODIFIED:20250729T183417Z
UID:10001436-1745341200-1745348400@shepherd.dev.dvcl.cc
SUMMARY:Family Dinner
DESCRIPTION:Share a warm\, home-cooked meal with your loved ones at Family Dinner. This event brings patients and families together for a comforting and communal dining experience that feels like home.Family dinners are offered weekly on Tuesdays\, beginning at 5 p.m.This event is for current inpatients and their families/caregivers only.
URL:https://shepherd.dev.dvcl.cc/event/family-dinner-2/2025-04-22/
LOCATION:Shepherd Center\, 2020 Peachtree Road NW\, Atlanta\, GA\, 30309\, United States
CATEGORIES:Patient & Family Support
ATTACH;FMTTYPE=image/jpeg:https://shepherd.dev.dvcl.cc/wp-content/uploads/2025/01/patientsmileswithplateoffoodinhand-dvphotovideo2023-1205-170811-0100-scaled.jpg
END:VEVENT
BEGIN:VEVENT
DTSTART;TZID=America/New_York:20251202T170000
DTEND;TZID=America/New_York:20251202T190000
DTSTAMP:20260420T165904
CREATED:20250309T214005Z
LAST-MODIFIED:20250729T183417Z
UID:10001468-1764694800-1764702000@shepherd.dev.dvcl.cc
SUMMARY:Family Dinner
DESCRIPTION:Share a warm\, home-cooked meal with your loved ones at Family Dinner. This event brings patients and families together for a comforting and communal dining experience that feels like home.Family dinners are offered weekly on Tuesdays\, beginning at 5 p.m.This event is for current inpatients and their families/caregivers only.
URL:https://shepherd.dev.dvcl.cc/event/family-dinner-2/2025-12-02/
LOCATION:Shepherd Center\, 2020 Peachtree Road NW\, Atlanta\, GA\, 30309\, United States
CATEGORIES:Patient & Family Support
ATTACH;FMTTYPE=image/jpeg:https://shepherd.dev.dvcl.cc/wp-content/uploads/2025/01/patientsmileswithplateoffoodinhand-dvphotovideo2023-1205-170811-0100-scaled.jpg
END:VEVENT
BEGIN:VEVENT
DTSTART;TZID=America/New_York:20250708T170000
DTEND;TZID=America/New_York:20250708T190000
DTSTAMP:20260420T165904
CREATED:20250309T214005Z
LAST-MODIFIED:20250729T183417Z
UID:10001447-1751994000-1752001200@shepherd.dev.dvcl.cc
SUMMARY:Family Dinner
DESCRIPTION:Share a warm\, home-cooked meal with your loved ones at Family Dinner. This event brings patients and families together for a comforting and communal dining experience that feels like home.Family dinners are offered weekly on Tuesdays\, beginning at 5 p.m.This event is for current inpatients and their families/caregivers only.
URL:https://shepherd.dev.dvcl.cc/event/family-dinner-2/2025-07-08/
LOCATION:Shepherd Center\, 2020 Peachtree Road NW\, Atlanta\, GA\, 30309\, United States
CATEGORIES:Patient & Family Support
ATTACH;FMTTYPE=image/jpeg:https://shepherd.dev.dvcl.cc/wp-content/uploads/2025/01/patientsmileswithplateoffoodinhand-dvphotovideo2023-1205-170811-0100-scaled.jpg
END:VEVENT
BEGIN:VEVENT
DTSTART;TZID=America/New_York:20260303T170000
DTEND;TZID=America/New_York:20260303T190000
DTSTAMP:20260420T165904
CREATED:20250309T214005Z
LAST-MODIFIED:20250729T183417Z
UID:10001481-1772557200-1772564400@shepherd.dev.dvcl.cc
SUMMARY:Family Dinner
DESCRIPTION:Share a warm\, home-cooked meal with your loved ones at Family Dinner. This event brings patients and families together for a comforting and communal dining experience that feels like home.Family dinners are offered weekly on Tuesdays\, beginning at 5 p.m.This event is for current inpatients and their families/caregivers only.
URL:https://shepherd.dev.dvcl.cc/event/family-dinner-2/2026-03-03/
LOCATION:Shepherd Center\, 2020 Peachtree Road NW\, Atlanta\, GA\, 30309\, United States
CATEGORIES:Patient & Family Support
ATTACH;FMTTYPE=image/jpeg:https://shepherd.dev.dvcl.cc/wp-content/uploads/2025/01/patientsmileswithplateoffoodinhand-dvphotovideo2023-1205-170811-0100-scaled.jpg
END:VEVENT
BEGIN:VEVENT
DTSTART;TZID=America/New_York:20250923T170000
DTEND;TZID=America/New_York:20250923T190000
DTSTAMP:20260420T165904
CREATED:20250309T214005Z
LAST-MODIFIED:20250729T183417Z
UID:10001458-1758646800-1758654000@shepherd.dev.dvcl.cc
SUMMARY:Family Dinner
DESCRIPTION:Share a warm\, home-cooked meal with your loved ones at Family Dinner. This event brings patients and families together for a comforting and communal dining experience that feels like home.Family dinners are offered weekly on Tuesdays\, beginning at 5 p.m.This event is for current inpatients and their families/caregivers only.
URL:https://shepherd.dev.dvcl.cc/event/family-dinner-2/2025-09-23/
LOCATION:Shepherd Center\, 2020 Peachtree Road NW\, Atlanta\, GA\, 30309\, United States
CATEGORIES:Patient & Family Support
ATTACH;FMTTYPE=image/jpeg:https://shepherd.dev.dvcl.cc/wp-content/uploads/2025/01/patientsmileswithplateoffoodinhand-dvphotovideo2023-1205-170811-0100-scaled.jpg
END:VEVENT
BEGIN:VEVENT
DTSTART;TZID=America/New_York:20250429T170000
DTEND;TZID=America/New_York:20250429T190000
DTSTAMP:20260420T165904
CREATED:20250309T214005Z
LAST-MODIFIED:20250729T183417Z
UID:10001437-1745946000-1745953200@shepherd.dev.dvcl.cc
SUMMARY:Family Dinner
DESCRIPTION:Share a warm\, home-cooked meal with your loved ones at Family Dinner. This event brings patients and families together for a comforting and communal dining experience that feels like home.Family dinners are offered weekly on Tuesdays\, beginning at 5 p.m.This event is for current inpatients and their families/caregivers only.
URL:https://shepherd.dev.dvcl.cc/event/family-dinner-2/2025-04-29/
LOCATION:Shepherd Center\, 2020 Peachtree Road NW\, Atlanta\, GA\, 30309\, United States
CATEGORIES:Patient & Family Support
ATTACH;FMTTYPE=image/jpeg:https://shepherd.dev.dvcl.cc/wp-content/uploads/2025/01/patientsmileswithplateoffoodinhand-dvphotovideo2023-1205-170811-0100-scaled.jpg
END:VEVENT
END:VCALENDAR