BEGIN:VCALENDAR
VERSION:2.0
PRODID:-//Shepherd Center - ECPv6.15.16//NONSGML v1.0//EN
CALSCALE:GREGORIAN
METHOD:PUBLISH
X-WR-CALNAME:Shepherd Center
X-ORIGINAL-URL:https://shepherd.dev.dvcl.cc
X-WR-CALDESC:Events for Shepherd Center
REFRESH-INTERVAL;VALUE=DURATION:PT1H
X-Robots-Tag:noindex
X-PUBLISHED-TTL:PT1H
BEGIN:VTIMEZONE
TZID:America/New_York
BEGIN:DAYLIGHT
TZOFFSETFROM:-0500
TZOFFSETTO:-0400
TZNAME:EDT
DTSTART:20240310T070000
END:DAYLIGHT
BEGIN:STANDARD
TZOFFSETFROM:-0400
TZOFFSETTO:-0500
TZNAME:EST
DTSTART:20241103T060000
END:STANDARD
BEGIN:DAYLIGHT
TZOFFSETFROM:-0500
TZOFFSETTO:-0400
TZNAME:EDT
DTSTART:20250309T070000
END:DAYLIGHT
BEGIN:STANDARD
TZOFFSETFROM:-0400
TZOFFSETTO:-0500
TZNAME:EST
DTSTART:20251102T060000
END:STANDARD
BEGIN:DAYLIGHT
TZOFFSETFROM:-0500
TZOFFSETTO:-0400
TZNAME:EDT
DTSTART:20260308T070000
END:DAYLIGHT
BEGIN:STANDARD
TZOFFSETFROM:-0400
TZOFFSETTO:-0500
TZNAME:EST
DTSTART:20261101T060000
END:STANDARD
END:VTIMEZONE
BEGIN:VEVENT
DTSTART;TZID=America/New_York:20250323T110000
DTEND;TZID=America/New_York:20250323T140000
DTSTAMP:20260421T045343
CREATED:20250227T195116Z
LAST-MODIFIED:20250309T212939Z
UID:10001129-1742727600-1742738400@shepherd.dev.dvcl.cc
SUMMARY:The SPIRIT of Inclusion Expo
DESCRIPTION:Wake Forest Parks\, Recreation & Cultural Resources is partnering with the Shepherd Center to offer the 2025 SPIRIT of Inclusion Expo.Free and open to everyone\, the Spirit of Inclusion Expo is a one-day event dedicated towards connecting individuals with disabilities and their families with valuable resources and services. The expo aims to provide information\, support\, and opportunities to enhance the quality of life for attendees.This event will feature a diverse range of vendors\, organizations\, and experts dedicated to empowering individuals with disabilities.Please note that participants will be responsible for securing their own transportation for this event. \n\n\n\n	\n																			\n												\n							SPIRIT of Inclusion Expo Website
URL:https://shepherd.dev.dvcl.cc/event/the-spirit-of-inclusion-expo/
LOCATION:Joyner Park Community Center\, 703 Harris Rd.\, Wake Forest\, NC\, 27587\, United States
CATEGORIES:Health & Wellness Clinics
ATTACH;FMTTYPE=image/png:https://shepherd.dev.dvcl.cc/wp-content/uploads/spirit-wake-forest-logo.png
END:VEVENT
END:VCALENDAR